BEGIN:VCALENDAR
VERSION:2.0
PRODID:-//Sevilla habla - ECPv6.15.17.1//NONSGML v1.0//EN
CALSCALE:GREGORIAN
METHOD:PUBLISH
X-ORIGINAL-URL:https://sevillahabla.com
X-WR-CALDESC:Eventos para Sevilla habla
REFRESH-INTERVAL;VALUE=DURATION:PT1H
X-Robots-Tag:noindex
X-PUBLISHED-TTL:PT1H
BEGIN:VTIMEZONE
TZID:Europe/Madrid
BEGIN:DAYLIGHT
TZOFFSETFROM:+0100
TZOFFSETTO:+0200
TZNAME:CEST
DTSTART:20210328T010000
END:DAYLIGHT
BEGIN:STANDARD
TZOFFSETFROM:+0200
TZOFFSETTO:+0100
TZNAME:CET
DTSTART:20211031T010000
END:STANDARD
BEGIN:DAYLIGHT
TZOFFSETFROM:+0100
TZOFFSETTO:+0200
TZNAME:CEST
DTSTART:20220327T010000
END:DAYLIGHT
BEGIN:STANDARD
TZOFFSETFROM:+0200
TZOFFSETTO:+0100
TZNAME:CET
DTSTART:20221030T010000
END:STANDARD
BEGIN:DAYLIGHT
TZOFFSETFROM:+0100
TZOFFSETTO:+0200
TZNAME:CEST
DTSTART:20230326T010000
END:DAYLIGHT
BEGIN:STANDARD
TZOFFSETFROM:+0200
TZOFFSETTO:+0100
TZNAME:CET
DTSTART:20231029T010000
END:STANDARD
END:VTIMEZONE
BEGIN:VEVENT
DTSTART;VALUE=DATE:20220607
DTEND;VALUE=DATE:20220608
DTSTAMP:20260423T120135
CREATED:20220512T070409Z
LAST-MODIFIED:20220512T085746Z
UID:5249-1654560000-1654646399@sevillahabla.com
SUMMARY:Gymkana
DESCRIPTION:Aprender jugando es una de nuestras señas de identidad\, por eso te invitamos a participar en nuestra Gymkhana.  \nPasa un rato agradable por Sevilla con tus compañeros mientras resuelves pistas y pruebas por la histórica ciudad de Sevilla. Recorre sus calles\, plazas\, callejones y parques mientras practicas tu español y haces amigos. \n¿Te apuntas el próximo 7 de junio a nuestra Gymkhana?
URL:https://sevillahabla.com/event/gymkana/
CATEGORIES:Actividades
ATTACH;FMTTYPE=image/jpeg:https://sevillahabla.com/wp-content/uploads/2022/05/Gymkana-1.jpg
END:VEVENT
BEGIN:VEVENT
DTSTART;VALUE=DATE:20220519
DTEND;VALUE=DATE:20220520
DTSTAMP:20260423T120135
CREATED:20220512T065206Z
LAST-MODIFIED:20220512T075641Z
UID:5241-1652918400-1653004799@sevillahabla.com
SUMMARY:Intercambio de idiomas
DESCRIPTION:¿¡Qué mejor manera de practicar tu español que hablando con nativos!? \nTodos los jueves desde Sevilla Habla se organizará un intercambio de idiomas en el que tendrás la oportunidad de hablar con nativos españoles que están aprendiendo inglés en Sevilla. Practicar tu español al mismo tiempo que haces nuevos amigos\, disfrutas de la ciudad y te tomas algo.  \n¿Te lo vas a perder?
URL:https://sevillahabla.com/event/intercambio-de-idiomas/
CATEGORIES:Actividades
ATTACH;FMTTYPE=image/png:https://sevillahabla.com/wp-content/uploads/2022/05/Intercambio-de-idiomas.png
END:VEVENT
BEGIN:VEVENT
DTSTART;VALUE=DATE:20220518
DTEND;VALUE=DATE:20220519
DTSTAMP:20260423T120135
CREATED:20220512T065554Z
LAST-MODIFIED:20220512T075712Z
UID:5244-1652832000-1652918399@sevillahabla.com
SUMMARY:Walking Tour
DESCRIPTION:Sevilla es una ciudad llena de arte\, de color\, de alegría y de cultura. ¿Piensas que conoces la ciudad? Aún te faltan miles de calles\, rincones e historias por descubrir. Todos los miércoles en Sevilla Habla organizamos un Walking Tour por la ciudad de Sevilla como parte de nuestras actividades culturales.  \nPiérdete por la judería\, conoce la imaginería sevillana en Semana Santa y visita el Real de la Feria en la mejor compañía mientras practicas tu español.
URL:https://sevillahabla.com/event/walking-tour/
CATEGORIES:Actividades
ATTACH;FMTTYPE=image/jpeg:https://sevillahabla.com/wp-content/uploads/2022/05/Walking-Tour.jpg
END:VEVENT
END:VCALENDAR